{"text_format":"1","workbook":"xlsx","n_sheets":6,"sheets":["Данные","Зацепы","Рельефы","Для тренировки","Крепеж","Формирование"],"not_rendered":{"charts":0,"images":147,"macros":1,"external_links":0,"defined_names":0,"comments":0,"pivot_tables":0},"unopened":[],"bounds":{"document_bytes":16777216,"sheet_cells":100000,"rows_first":2000,"rows_last":500,"rows_between":2000,"halvings":0,"cell_chars":16384,"cell_head_chars":4096},"cells_cut":0,"cells_raw":0,"read":"whole","date_system":"1900"}

{"sheet":"Данные","index":0,"n_rows":30,"n_cols":8,"rows_kept":30,"cut":false,"hidden":false,"merged":[[21,0,24,4],[19,0,19,1],[19,2,19,3],[3,1,3,5],[10,0,10,5],[17,0,17,1],[18,0,18,1],[17,2,17,3],[18,2,18,3],[7,1,7,5],[14,0,14,1],[16,0,16,1],[15,0,15,1],[14,2,14,3],[8,1,8,5],[4,1,4,5],[2,1,2,5],[6,1,6,5],[11,1,11,5],[17,7,17,9],[0,7,0,9],[1,7,12,9],[14,7,14,9],[15,7,15,9],[16,7,16,9],[0,0,1,5],[5,1,5,5],[12,1,12,5],[15,2,15,3],[16,2,16,3]]}
["Пожалуйста, укажите свои данные:",null,null,null,null,null,null,"Реквизиты"]
[null,null,null,null,null,null,null,"Индивидуальный предприниматель Овчинников Евгений Витальевич\n660130, Россия г.Красноярск\n ул. Мирошниченко д.6 кв. 49 тел. 89039238749\nОГРНИП 308246833600171,\nИНН  246303349650 \nр/сч  40802 810 4234 3000 0283 в ФИЛИАЛ \"НОВОСИБИРСКИЙ\" АО \"АЛЬФА-БАНК\",\nБИК  045004774,  к/с  30101810600000000774"]
["Название компании:"]
["Контактное лицо:"]
["Регион:"]
["Город:"]
["Адрес:"]
["Телефон:"]
["E-mail:"]
[]
["Получатель груза"]
["Для частного лица/ФИО полностью:"]
["Для организаций/ Полное название:"]
[]
["Количество наборов зацепов:",null,{"$f":"SUM('Для тренировки'!F3:P5)+SUM(Зацепы!M60:W60)","v":0},null,"шт",null,null,"г.Красноярск   "]
["Количество зацепов:",null,{"$f":"SUM(Зацепы!K58,'Для тренировки'!O12:Q12)","v":0},null,"шт",null,null,"Овчинников Евгений"]
["Количество рельефов:",null,{"$f":"SUM(Рельефы!H108:R108)","v":0},null,"шт",null,null,"+7(903) 923-87-49"]
["Общая стоимость заказа:",null,{"$f":"SUM(Зацепы!Y60,'Для тренировки'!S12:T12,Рельефы!T108,Крепеж!G17)","v":0},null,"руб",null,null,"sales@aztec-climber.ru"]
["Общий вес заказа:",null,{"$f":"SUM(Зацепы!X60,Рельефы!S108,'Для тренировки'!R12,Крепеж!F17)","v":0},null,"кг"]
["Приблизительный объем:",null,{"$f":"C15*0.007+C17*0.015","v":0},null,"м3"]
[]
["Доставка в большинство городов осуществляется компаниями Деловые линии, ПЭК, GTD или СДЭК. Для ориентировочной калькуляции стоимости доставки введите вес и объем заказа на сайте перевозчика"]
[]
[]
[]
[]
[null,"http://krasnoyarsk.dellin.ru"]
[null,"https://cdek.ru/"]
[null,"https://gtdel.com/"]
[null,"https://pecom.ru/"]

{"sheet":"Зацепы","index":1,"n_rows":62,"n_cols":34,"rows_kept":62,"cut":false,"hidden":false,"merged":[[0,0,1,0],[0,1,1,1],[0,2,1,2],[0,3,1,9],[61,25,63,32],[57,25,57,32],[56,12,56,32],[4,25,4,32],[5,25,11,32],[0,25,1,32],[0,12,0,22],[0,10,1,10],[0,11,1,11],[0,23,1,23],[0,24,1,24],[2,12,2,22],[26,10,26,24],[36,10,36,24],[43,10,43,24],[51,10,51,24],[4,10,4,24],[12,10,12,24],[20,10,20,24]]}
["Название набора/Размерные Группы","Количество в наборе","Изображение ","   Размеры зацепов в наборах, шт",null,null,null,null,null,null,"Вес набора","Цена набора","Выберите количество комплектов по цвету",null,null,null,null,null,null,null,null,null,null,"Общий вес","Общая стоимость","Длина необходимых болтов для заказанных наборов шт"]
[null,null,null,null,null,null,null,null,null,null,null,null,"Любой цвет","3028 RAL","5015 RAL","1018 RAL","6037 RAL","9005 RAL","9010 RAL","2003 RAL","4005 RAL","Зеленый флюр","Розовый флюр"]
["XS","шт",null,"XS","S","M","L","XL","XXL","GIGA","кг","руб",null,null,null,null,null,null,null,null,null,null,null,"кг","руб","40мм","50мм","60мм","70мм","80мм","90мм","100мм","120мм","Код"]
["New Beads",30,null,30,null,null,null,null,null,null,2.2999999999999998,1540,null,null,null,null,null,null,null,null,null,null,null,{"$f":"K4*(M4+N4+O4+P4+Q4+R4+S4+T4+U4+V4+W4)","v":0},{"$f":"(L4+100)*W4+(L4+100)*V4+(L4+100)*R4+(L4+100)*S4+L4*(M4+N4+O4+P4+Q4+T4+U4)","v":0},{"$f":"SUM(M4:W4)*30","v":0},null,null,null,null,null,null,null,"00-00000050"]
["Sqrew/XS",null,null,"XS","S","M","L","XL","XXL","GIGA"]
["Bark-Screw II NEW!2021",23,null,17,6,null,null,null,null,null,2,1820,null,null,null,null,null,null,null,null,null,null,null,{"$f":"K6*(M6+N6+O6+P6+Q6+R6+S6+T6+U6+V6+W6)","v":0},{"$f":"(L6+100)*W6+(L6+100)*V6+(L6+100)*R6+(L6+100)*S6+L6*(M6+N6+O6+P6+Q6+T6+U6)","v":0},"КРЕПЯТСЯ НА ШУРУПЫ",null,null,null,null,null,null,null,"00-00000628"]
["Dual Screw PU NEW!2021",11,null,11,null,null,null,null,null,null,0.3,1300,null,null,null,null,null,null,null,null,null,null,null,{"$f":"K7*(M7+N7+O7+P7+Q7+R7+S7+T7+U7+V7+W7)","v":0},{"$f":"(L7+100)*W7+(L7+100)*V7+(L7+100)*R7+(L7+100)*S7+L7*(M7+N7+O7+P7+Q7+T7+U7)","v":0}]
["Spots PU",11,null,11,null,null,null,null,null,null,0.6,1820,null,null,null,null,null,null,null,null,null,null,null,0,{"$f":"(L8+100)*W8+(L8+100)*V8+(L8+100)*R8+(L8+100)*S8+L8*(M8+N8+O8+P8+Q8+T8+U8)","v":0},null,null,null,null,null,null,null,null,"00-00000216"]
["Spots II PU",15,null,15,null,null,null,null,null,null,0.3,1160,null,null,null,null,null,null,null,null,null,null,null,0,0,null,null,null,null,null,null,null,null,"00-00000611"]
["G12 PU NEW!2021 ",12,null,12,null,null,null,null,null,null,1,2000,null,null,null,null,null,null,null,null,null,null,null,{"$f":"K10*(M10+N10+O10+P10+Q10+R10+S10+T10+U10+V10+W10)","v":0},{"$f":"(L10+100)*W10+(L10+100)*V10+(L10+100)*R10+(L10+100)*S10+L10*(M10+N10+O10+P10+Q10+T10+U10)","v":0}]
["Geometric Screw PU",12,null,12,null,null,null,null,null,null,0.3,940,null,null,null,null,null,null,null,null,null,null,null,0,0,null,null,null,null,null,null,null,null,"00-00000225"]
["Granite Screw PU",10,null,10,null,null,null,null,null,null,0.2,660,null,null,null,null,null,null,null,null,null,null,null,0,0,null,null,null,null,null,null,null,null,"00-00000224"]
["S","шт",null,"XS","S","M","L","XL","XXL","GIGA",null,null,null,null,null,null,null,null,null,null,null,null,null,null,null,"40мм","50мм","60мм","70мм","80мм","90мм","100мм","120мм"]
["Edges",15,null,null,15,null,null,null,null,null,2.4,1930,null,null,null,null,null,null,null,null,null,null,null,0,{"$f":"(L14+100)*W14+(L14+100)*V14+(L14+100)*R14+(L14+100)*S14+L14*(M14+N14+O14+P14+Q14+T14+U14)","v":0},{"$f":"SUM(M14:W14)*15","v":0},null,null,null,null,null,null,null,"00-00000266"]
["No fear",20,null,10,10,null,null,null,null,null,3.2,1980,null,null,null,null,null,null,null,null,null,null,null,0,{"$f":"(L15+100)*W15+(L15+100)*V15+(L15+100)*R15+(L15+100)*S15+L15*(M15+N15+O15+P15+Q15+T15+U15)","v":0},{"$f":"SUM(M15:W15)*20","v":0},null,null,null,null,null,null,null,"00-00000057"]
["Stone",15,null,null,15,null,null,null,null,null,3.3,2090,null,null,null,null,null,null,null,null,null,null,null,0,0,{"$f":"SUM(M16:W16)*11","v":0},{"$f":"SUM(M16:W16)*4","v":0},null,null,null,null,null,null,"00-00000059"]
["Universal",15,null,1,14,null,null,null,null,null,3,1980,null,null,null,null,null,null,null,null,null,null,null,0,0,{"$f":"SUM(M17:W17)*10","v":0},{"$f":"SUM(M17:W17)*5","v":0},null,null,null,null,null,null,"00-00000045"]
["Metamorphic",15,null,null,12,3,null,null,null,null,3.7,2260,null,null,null,null,null,null,null,null,null,null,null,0,0,{"$f":"SUM(M18:W18)*10","v":0},{"$f":"SUM(M18:W18)*5","v":0},null,null,null,null,null,null,"00-00000043"]
["Metamorphic II",12,null,null,7,5,null,null,null,null,4.0999999999999996,2310,null,null,null,null,null,null,null,null,null,null,null,0,0,{"$f":"SUM(M19:W19)*3","v":0},{"$f":"SUM(M19:W19)*8","v":0},{"$f":"SUM(M19:W19)*1","v":0},null,null,null,null,null,"00-00000046"]
["Skin Killer",14,null,4,4,2,4,null,null,null,3.3,2090,null,null,null,null,null,null,null,null,null,null,null,0,0,{"$f":"SUM(M20:W20)*14","v":0},null,null,null,null,null,null,null,"00-00000047"]
["M","шт",null,"XS","S","M","L","XL","XXL","GIGA",null,null,null,null,null,null,null,null,null,null,null,null,null,null,null,"40мм","50мм","60мм","70мм","80мм","90мм","100мм","120мм"]
["Static",12,null,null,null,12,null,null,null,null,4.0999999999999996,2700,null,null,null,null,null,null,null,null,null,null,null,0,{"$f":"(L22+100)*W22+(L22+100)*V22+(L22+100)*R22+(L22+100)*S22+L22*(M22+N22+O22+P22+Q22+T22+U22)","v":0},{"$f":"SUM(M22:W22)*8","v":0},{"$f":"SUM(M22:W22)*2","v":0},{"$f":"SUM(M22:W22)*2","v":0},null,null,null,null,null,"00-00000060"]
["X-Power",12,null,null,1,7,4,null,null,null,4.7,2700,null,null,null,null,null,null,null,null,null,null,null,0,{"$f":"(L23+100)*W23+(L23+100)*V23+(L23+100)*R23+(L23+100)*S23+L23*(M23+N23+O23+P23+Q23+T23+U23)","v":0},{"$f":"SUM(M23:W23)*9","v":0},{"$f":"SUM(M23:W23)*3","v":0},null,null,null,null,null,null,"00-00000061"]
["Handle",10,null,null,null,7,3,null,null,null,4.4000000000000004,2530,null,null,null,null,null,null,null,null,null,null,null,0,0,{"$f":"SUM(M24:W24)*6","v":0},{"$f":"SUM(M24:W24)*4","v":0},null,null,null,null,null,null,"00-00000042"]
["Sea Life",8,null,null,null,5,3,null,null,null,3.7,2530,null,null,null,null,null,null,null,null,null,null,null,0,0,null,{"$f":"SUM(M25:W25)*6","v":0},{"$f":"SUM(M25:W25)*2","v":0},null,null,null,null,null,"00-00000041"]
["Up",6,null,null,null,6,null,null,null,null,2.4,1600,null,null,null,null,null,null,null,null,null,null,null,0,0,{"$f":"SUM(M26:W26)*4","v":0},{"$f":"SUM(M26:W26)*2","v":0},null,null,null,null,null,null,"00-00000291"]
["L","шт",null,"XS","S","M","L","XL","XXL","GIGA",null,null,null,null,null,null,null,null,null,null,null,null,null,null,null,"40мм","50мм","60мм","70мм","80мм","90мм","100мм","120мм"]
["Bridge stone",10,null,null,1,4,4,1,null,null,5.3,2590,null,null,null,null,null,null,null,null,null,null,null,0,{"$f":"(L28+100)*W28+(L28+100)*V28+(L28+100)*R28+(L28+100)*S28+L28*(M28+N28+O28+P28+Q28+T28+U28)","v":0},{"$f":"SUM(M28:W28)*7","v":0},{"$f":"SUM(M28:W28)*3","v":0},null,null,null,null,null,null,"00-00000071"]
["Lever ",5,null,null,null,1,4,null,null,null,3.8,1980,null,null,null,null,null,null,null,null,null,null,null,0,{"$f":"(L29+100)*W29+(L29+100)*V29+(L29+100)*R29+(L29+100)*S29+L29*(M29+N29+O29+P29+Q29+T29+U29)","v":0},null,{"$f":"SUM(M29:W29)*1","v":0},{"$f":"SUM(M29:W29)*4","v":0},null,null,null,null,null,"00-00000067"]
["Hexagon NEW!2020",5,null,null,null,null,3,2,null,null,3.73,1930,null,null,null,null,null,null,null,null,null,null,null,0,0,{"$f":"SUM(M30:W30)*1","v":0},{"$f":"SUM(M30:W30)*3","v":0},{"$f":"SUM(M30:W30)*1","v":0},null,null,null,null,null,"00-00000558"]
["Roof",5,null,null,null,null,5,null,null,null,3.9,2150,null,null,null,null,null,null,null,null,null,null,null,0,0,{"$f":"SUM(M31:W31)*2","v":0},{"$f":"SUM(M31:W31)*2","v":0},{"$f":"SUM(M31:W31)*1","v":0},null,null,null,null,null,"00-00000053"]
["Dront",5,null,null,null,null,4,1,null,null,3.4,1710,null,null,null,null,null,null,null,null,null,null,null,0,0,{"$f":"SUM(M32:W32)*3","v":0},{"$f":"SUM(M32:W32)*2","v":0},null,null,null,null,null,null,"00-00000049"]
["Ceuse III",6,null,null,null,null,6,null,null,null,3.3,1760,null,null,null,null,null,null,null,null,null,null,null,0,0,{"$f":"SUM(M33:W33)*6","v":0},null,null,null,null,null,null,null,"00-00000040"]
["Pac-Man",2,null,null,null,null,2,null,null,null,2.5,1050,null,null,null,null,null,null,null,null,null,null,null,0,0,null,null,null,null,{"$f":"SUM(M34:W34)*2","v":0},null,null,null,"00-00000029"]
["Kuturchin II NEW!2020",6,null,null,null,1,4,1,null,null,6.8,3250,null,null,null,null,null,null,null,null,null,null,null,0,0,null,null,null,null,{"$f":"SUM(M35:W35)*1","v":0},{"$f":"SUM(M35:W35)*1","v":0},{"$f":"SUM(M35:W35)*4","v":0},null,"00-00000600"]
["Kuturchin I NEW!2020",5,null,null,null,null,3,2,null,null,4.7,2370,null,null,null,null,null,null,null,null,null,null,null,0,0,{"$f":"SUM(M36:W36)*1","v":0},null,{"$f":"SUM(M36:W36)*2","v":0},{"$f":"SUM(M36:W36)*2","v":0},null,null,null,null,"00-00000573"]
["XL","шт",null,"XS","S","M","L","XL","XXL","GIGA",null,null,null,null,null,null,null,null,null,null,null,null,null,null,null,"40мм","50мм","60мм","70мм","80мм","90мм","100мм","120мм"]
["Ceuse I",6,null,null,null,null,4,2,null,null,4.3,2310,null,null,null,null,null,null,null,null,null,null,null,0,{"$f":"(L38+100)*W38+(L38+100)*V38+(L38+100)*R38+(L38+100)*S38+L38*(M38+N38+O38+P38+Q38+T38+U38)","v":0},{"$f":"SUM(M38:W38)*5","v":0},{"$f":"SUM(M38:W38)*1","v":0},null,null,null,null,null,null,"00-00000078"]
["Ceuse II",4,null,null,null,null,1,3,null,null,4.2,2090,null,null,null,null,null,null,null,null,null,null,null,0,{"$f":"(L39+100)*W39+(L39+100)*V39+(L39+100)*R39+(L39+100)*S39+L39*(M39+N39+O39+P39+Q39+T39+U39)","v":0},null,{"$f":"SUM(M39:W39)*4","v":0},null,null,null,null,null,null,"00-00000039"]
["Muffins",3,null,null,null,null,1,2,null,null,3.6,1430,null,null,null,null,null,null,null,null,null,null,null,0,0," ",null,{"$f":"SUM(M40:W40)*1","v":0},{"$f":"SUM(M40:W40)*2","v":0},null,null,null,null,"00-00000073"]
["Dеja Vu           NEW! 2021",5,null,null,null,null,2,3,null,null,5.86,2850,null,null,null,null,null,null,null,null,null,null,null,{"$f":"K41*(M41+N41+O41+P41+Q41+R41+S41+T41+U41+V41+W41)","v":0},0,null,null,{"$f":"SUM(M41:W41)*2","v":0},{"$f":"SUM(M41:W41)*3","v":0},null,null,null,null,"00-00000637"]
["Slides               NEW! 2021",8,null,null,null,null,3,5,null,null,8,3650,null,null,null,null,null,null,null,null,null,null,null,0,0,null,{"$f":"SUM(M42:W42)*2","v":0},{"$f":"SUM(M42:W42)*2","v":0},{"$f":"SUM(M42:W42)*2","v":0},{"$f":"SUM(M42:W42)*2","v":0},null,null,null,"00-00000746"]
["Soft Jugs",5,null,null,null,null,null,5,null,null,6.4,3030,null,null,null,null,null,null,null,null,null,null,null,0,0,null,null,{"$f":"SUM(M43:W43)*5","v":0},null,null,null,null,null,"00-00000346"]
["XXL","шт",null,"XS","S","M","L","XL","XXL","GIGA",null,null,null,null,null,null,null,null,null,null,null,null,null,null,null,"40мм","50мм","60мм","70мм","80мм","90мм","100мм","120мм"]
["Baton PU NEW!2020",5,null,null,null,null,null,null,5,null,2.7,4180,null,null,null,null,null,null,null,null,null,null,null,0,{"$f":"(L45+100)*W45+(L45+100)*V45+(L45+100)*R45+(L45+100)*S45+L45*(M45+N45+O45+P45+Q45+T45+U45)","v":0},null,null,null,{"$f":"SUM(M45:W45)*1","v":0},{"$f":"SUM(M45:W45)*2","v":0},{"$f":"SUM(M45:W45)*2","v":0},null,null,"00-00000571"]
["Virus PU  NEW!2020",5,null,null,null,null,null,null,3,2,5.0999999999999996,9800,null,null,null,null,null,null,null,null,null,null,null,{"$f":"K46*(M46+N46+O46+P46+Q46+R46+S46+T46+U46+V46+W46)","v":0},{"$f":"(L46+100)*W46+(L46+100)*V46+(L46+100)*R46+(L46+100)*S46+L46*(M46+N46+O46+P46+Q46+T46+U46)","v":0},null,null,null,null,null,null,null,null,"00-00000578"]
["Joker PU NEW!2021",8,null,null,null,null,null,null,5,3,6.6,12700,null,null,null,null,null,null,null,null,null,null,null,0,{"$f":"(L47+100)*W47+(L47+100)*V47+(L47+100)*R47+(L47+100)*S47+L47*(M47+N47+O47+P47+Q47+T47+U47)","v":0},null,null,{"$f":"SUM(M47:W47)*2","v":0},{"$f":"SUM(M47:W47)*1","v":0},{"$f":"SUM(M47:W47)*1","v":0},null,null,null,"00-00000682"]
["Dront XXL",3,null,null,null,null,null,null,3,null,4,1870,null,null,null,null,null,null,null,null,null,null,null,0,{"$f":"(L48+100)*W48+(L48+100)*V48+(L48+100)*R48+(L48+100)*S48+L48*(M48+N48+O48+P48+Q48+T48+U48)","v":0},null,null,null,{"$f":"SUM(M48:W48)*2","v":0},null,{"$f":"SUM(M48:W48)*1","v":0},null,null,"00-00000048"]
["Free Fall",3,null,null,null,null,null,null,3,null,3.5,1710,null,null,null,null,null,null,null,null,null,null,null,0,0,{"$f":"SUM(M49:W49)*1","v":0},{"$f":"SUM(M49:W49)*2","v":0},null,null,null,null,null,null,"00-00000293"]
["Boss I",3,null,null,null,null,null,null,3,null,5.0999999999999996,2310,null,null,null,null,null,null,null,null,null,null,null,0,0,null,null,null,null,{"$f":"SUM(M50:W50)*2","v":0},{"$f":"SUM(M50:W50)*1","v":0},null,null,"00-00000378"]
["Boss II",3,null,null,null,null,null,null,3,null,5,2200,null,null,null,null,null,null,null,null,null,null,null,0,0,null,null,null,null,{"$f":"SUM(M51:W51)*2","v":0},{"$f":"SUM(M51:W51)*1","v":0},null,null,"00-00000379"]
["GIGA","шт",null,"XS","S","M","L","XL","XXL","GIGA",null,null,null,null,null,null,null,null,null,null,null,null,null,null,null,"40мм","50мм","60мм","70мм","80мм","90мм","100мм","120мм"]
["Hexagon Giant PU NEW!2020",3,null,null,null,null,null,null,null,3,3,4350,null,null,null,null,null,null,null,null,null,null,null,0,{"$f":"(L53+100)*W53+(L53+100)*V53+(L53+100)*R53+(L53+100)*S53+L53*(M53+N53+O53+P53+Q53+T53+U53)","v":0},null,null,null,{"$f":"SUM(M53:W53)*1","v":0},null,null,{"$f":"SUM(M53:W53)*2","v":0},null,"00-00000279"]
["Fish",1,null,null,null,null,null,null,null,1,1.8,830,null,null,null,null,null,null,null,null,null,null,null,0,{"$f":"(L54+100)*W54+(L54+100)*V54+(L54+100)*R54+(L54+100)*S54+L54*(M54+N54+O54+P54+Q54+T54+U54)","v":0},null,null,null,null,null,{"$f":"SUM(M54:W54)*1","v":0},null,null,"00-00000074"]
["Africa",1,null,null,null,null,null,null,null,1,3,1160,null,null,null,null,null,null,null,null,null,null,null,0,0,null,null,null,null,null,{"$f":"SUM(M55:W55)*1","v":0},null,null,"00-00000076"]
[]
[null,null,null,"XS","S","M","L","XL","XXL","GIGA","Всего"]
[null,null,null,{"$f":"D4*SUM(M4:W4)+D6*SUM(M6:W6)+D7*SUM(M7:W7)+D8*SUM(M8:W8)+D9*SUM(M9:W9)+D10*SUM(M10:W10)+D11*SUM(M11:W11)+D12*SUM(M12:W12)+D15*SUM(M15:W15)+D17*SUM(M17:W17)+D20*SUM(M20:W20)","v":0},{"$f":"+E6*SUM(M6:W6)+E14*SUM(M14:W14)+E15*SUM(M15:W15)+E16*SUM(M16:W16)+E17*SUM(M17:W17)+E18*SUM(M18:W18)+E19*SUM(M19:W19)+E20*SUM(M20:W20)+E23*SUM(M23:W23)+E28*SUM(M28:W28)","v":0},{"$f":"F18*SUM(M18:W18)+F19*SUM(M19:W19)+F20*SUM(M20:W20)+F22*SUM(M22:W22)+F23*SUM(M23:W23)+F24*SUM(M24:W24)+F25*SUM(M25:W25)+F26*SUM(M26:W26)+F28*SUM(M28:W28)+F29*SUM(M29:W29)+F35*SUM(M35:W35)","v":0},{"$f":"G20*SUM(M20:W20)+G23*SUM(M23:W23)+G24*SUM(M24:W24)+G25*SUM(M25:W25)+G28*SUM(M28:W28)+G29*SUM(M29:W29)+G30*SUM(M30:W30)+G31*SUM(M31:W31)+G32*SUM(M32:W32)+G33*SUM(M33:W33)+G34*SUM(M34:W34)+G35*SUM(M35:W35)+G36*SUM(M36:W36)+G38*SUM(M38:W38)+G39*SUM(M39:W39)+G40*SUM(M40:W40)+G41*SUM(M41:W41)+G42*SUM(M42:W42)","v":0},{"$f":"H43*SUM(M43:W43)+H40*SUM(M40:W40)+H39*SUM(M39:W39)+H38*SUM(M38:W38)+H36*SUM(M36:W36)+H32*SUM(M32:W32)+H30*SUM(M30:W30)+H28*SUM(M28:W28)+H35*SUM(M35:W35)+H41*SUM(M41:W41)+H42*SUM(M42:W42)","v":0},{"$f":"I45*SUM(M45:W45)+I48*SUM(M48:W48)+I49*SUM(M49:W49)+I50*SUM(M50:W50)+I51*SUM(M51:W51)+I47*SUM(M47:W47)+I46*SUM(M46:W46)","v":0},{"$f":"J54*SUM(M54:W54)+J55*SUM(M55:W55)+J53*SUM(M53:W53)+J47*SUM(M47:W47)+J46*SUM(M46:W46)","v":0},{"$f":"SUM(D58:J58)","v":0},null,null,null,null,null,null,null,null,null,null,null,null,"Общий вес","Общая стоимость","Длина необходимых болтов для заказанных наборов шт"]
[null,null,null,null,null,null,null,null,null,null,null,null,"шт","шт","шт","шт","шт","шт","шт","шт","шт","шт","шт","кг","руб","40мм","50мм","60мм","70мм","80мм","90мм","100мм","120мм"]
[null,null,null,null,null,null,null,null,null,null,null,null,{"$f":"SUM(M4*$B$4)+SUM(M6*$B$6)+SUM(M7*$B$7)+SUM(M8*$B$8)+SUM(M9*$B$9)+SUM(M10*$B$10)+SUM(M11*$B$11)+SUM(M12*$B$12)+SUM(M14*$B$14)+SUM(M15*$B$15)+SUM(M16*$B$16)+SUM(M17*$B$17)+SUM(M18*$B$18)+SUM(M19*$B$19)+SUM(M20*$B$20)+SUM(M22*$B$22)+SUM(M23*$B$23)+SUM(M24*$B$24)+SUM(M25*$B$25)+SUM(M26*$B$26)++SUM(M28*$B$28)+SUM(M29*$B$29)+SUM(M30*$B$30)+SUM(M31*$B$31)+SUM(M32*$B$32)+SUM(M33*$B$33)+SUM(M34*$B$34)+SUM(M35*$B$35)+SUM(M36*$B$36)+SUM(M38*$B$38)+SUM(M39*$B$39)+SUM(M40*$B$40)+SUM(M41*$B$41)+SUM(M42*$B$42)+SUM(M43*$B$43)+SUM(M45*$B$45)+SUM(M46*$B$46)+SUM(M48*$B$48)+SUM(M49*$B$49)+SUM(M50*$B$50)+SUM(M51*$B$51)++SUM(M53*$B$53)+SUM(M54*$B$54)+SUM(M55*$B$55)+SUM(M47*$B$47)","v":0},{"$f":"SUM(N4*$B$4)+SUM(N6*$B$6)+SUM(N7*$B$7)+SUM(N8*$B$8)+SUM(N9*$B$9)+SUM(N10*$B$10)+SUM(N11*$B$11)+SUM(N12*$B$12)+SUM(N14*$B$14)+SUM(N15*$B$15)+SUM(N16*$B$16)+SUM(N17*$B$17)+SUM(N18*$B$18)+SUM(N19*$B$19)+SUM(N20*$B$20)+SUM(N22*$B$22)+SUM(N23*$B$23)+SUM(N24*$B$24)+SUM(N25*$B$25)+SUM(N26*$B$26)++SUM(N28*$B$28)+SUM(N29*$B$29)+SUM(N30*$B$30)+SUM(N31*$B$31)+SUM(N32*$B$32)+SUM(N33*$B$33)+SUM(N34*$B$34)+SUM(N35*$B$35)+SUM(N36*$B$36)+SUM(N38*$B$38)+SUM(N39*$B$39)+SUM(N40*$B$40)+SUM(N41*$B$41)+SUM(N42*$B$42)+SUM(N43*$B$43)+SUM(N45*$B$45)+SUM(N46*$B$46)+SUM(N48*$B$48)+SUM(N49*$B$49)+SUM(N50*$B$50)+SUM(N51*$B$51)++SUM(N53*$B$53)+SUM(N54*$B$54)+SUM(N55*$B$55)+SUM(N47*$B$47)","v":0},0,0,0,0,0,0,0,0,0,{"$f":"SUM(X4:X55)","v":0},{"$f":"SUM(Y4:Y55)","v":0},{"$f":"SUM(Z4:Z4,Z14:Z20,Z22:Z26,Z28:Z36,Z45:Z51,Z54:Z55,Z38:Z43)","v":0},{"$f":"SUM(AA4:AA4,AA15:AA20,AA22:AA26,AA28:AA34,AA45:AA50,AA54:AA55,AA38:AA40)","v":0},{"$f":"SUM(AB4:AB4,AB15:AB20,AB22:AB26,AB28:AB36,AB45:AB50,AB54:AB55,AB38:AB43)","v":0},{"$f":"SUM(AC4:AC4,AC14:AC20,AC22:AC26,AC28:AC36,AC45:AC51,AC53:AC55,AC38:AC43)","v":0},{"$f":"SUM(AD4:AD4,AD14:AD20,AD22:AD26,AD28:AD36,AD45:AD51,AD54:AD55,AD38:AD43)","v":0},{"$f":"SUM(AE4:AE4,AE15:AE20,AE22:AE24,AE28:AE36,AE45:AE51,AE53:AE55,AE38:AE43)","v":0},{"$f":"SUM(AF4:AF4,AF15:AF20,AF22:AF24,AF28:AF36,AF45:AF50,AF53:AF55,AF38:AF43)","v":0},{"$f":"SUM(AG4:AG4,AG15:AG20,AG22:AG24,AG28:AG32,AG45:AG48,AG54:AG55,AG38:AG40)","v":0}]
[null,null,null,null,null,null,null,null,null,null,null,null,null,null,null,null,null,null,null,null,null,null,null,null,"Вес болтов",{"$f":"Z60*0.032","v":0},{"$f":"AA60*0.038","v":0},{"$f":"AB60*0.044","v":0},{"$f":"AC60*0.05","v":0},{"$f":"AD60*0.055","v":0},{"$f":"AE60*0.062","v":0},{"$f":"AF60*0.068","v":0},{"$f":"AG60*0.08","v":0}]
[null,null,null,null,null,null,null,null,null,null,null,null,null,null,null,null,null,null,null,null,null,null,null,null,null,"Болты не включены в стоимость зацепов, для их заказа заполните вкладку \"Крепеж\""]

{"sheet":"Рельефы","index":2,"n_rows":111,"n_cols":21,"rows_kept":111,"cut":false,"hidden":false,"merged":[[104,19,105,19],[109,18,109,19],[110,18,110,19],[0,1,1,1],[104,7,104,17],[54,0,54,19],[97,0,97,19],[68,0,68,19],[0,0,1,0],[0,4,1,4],[2,0,2,19],[0,7,0,17],[0,18,1,18],[0,19,1,19],[0,3,1,3],[0,2,1,2],[104,18,105,18]]}
["Название рельефа","Размер рельефа","Габариты  рельефа, см","Количество в наборе, шт","Изображение ","Вес набора","Цена рельефа","Выберите количество рельефов по цвету",null,null,null,null,null,null,null,null,null,null,"Общий вес","Общая стоимость"]
[null,null,null,null,null,"кг","руб","Любой цвет","3028 RAL","5015 RAL","1018 RAL","6037 RAL","9005 RAL","9010 RAL","2003 RAL","4005 RAL","Зеленый флюр","Розовый флюр"]
["СТЕКЛОПЛАСТИКОВЫЕ РЕЛЬЕФЫ",null,null,null,null,null,null,null,null,null,null,null,null,null,null,null,null,null,null,null,"Код"]
["№1 Double Spheric","M","40/15",1,null,1.72,3950,null,null,null,null,null,null,null,null,null,null,null,{"$f":"SUM(H4:R4)*F4","v":0},{"$f":"SUM(H4:R4)*G4","v":0},"00-00000021"]
["№2 Spheric","M","41/16",1,null,2.2999999999999998,4000,null,null,null,null,null,null,null,null,null,null,null,0,0,"00-00000022"]
["№3 Tufa","S","61/14/11",1,null,1.2,3600,null,null,null,null,null,null,null,null,null,null,null,0,0,"00-00000028"]
["№4 Small Spheric","XS","30/8",1,null,0.9,2200,null,null,null,null,null,null,null,null,null,null,null,0,0,"00-00000023"]
["№5 Hollow","M","49/40/17",1,null,1.95,4550,null,null,null,null,null,null,null,null,null,null,null,0,0,"00-00000026"]
["№6 Nest","S","38/28/9",1,null,1.1499999999999999,2950,null,null,null,null,null,null,null,null,null,null,null,0,0,"00-00000027"]
["№7 Casper","S","37/35/17",1,null,1.4,3000,null,null,null,null,null,null,null,null,null,null,null,0,0,"00-00000030"]
["№9 Delfino","S","45/27/15",1,null,1.2,3450,null,null,null,null,null,null,null,null,null,null,null,0,0,"00-00000032"]
["№10 Bone","S","43/26/10",1,null,1.4,2200,null,null,null,null,null,null,null,null,null,null,null,0,0,"00-00000031"]
["№11 Wing","M","64/12/12",1,null,1.1000000000000001,3450,null,null,null,null,null,null,null,null,null,null,null,0,0,"00-00000033"]
["№12 Stump","M","38/36/23",1,null,1.7,3550,null,null,null,null,null,null,null,null,null,null,null,0,0,"00-00000034"]
["№13 Ear","M","42/33/16",1,null,1.8,3750,null,null,null,null,null,null,null,null,null,null,null,0,0,"00-00000035"]
["№14 Camel","L","64/25/13",1,null,1.65,4000,null,null,null,null,null,null,null,null,null,null,null,0,0,"00-00000009"]
["№15 Nut","M","47/31/12.5",1,null,1.75,3750,null,null,null,null,null,null,null,null,null,null,null,0,0,"00-00000010"]
["№16 Dune","S","38/29/11",1,null,1.2,3200,null,null,null,null,null,null,null,null,null,null,null,0,0,"00-00000011"]
["№17 Dream Point","M","45/37/12.5",1,null,1.6,3800,null,null,null,null,null,null,null,null,null,null,null,0,0,"00-00000012"]
["№18 Boomerang","M","66/19/13",1,null,1.6,3800,null,null,null,null,null,null,null,null,null,null,null,0,0,"00-00000036"]
["№21 Banana","L","70/30/15",1,null,2.1,4950,null,null,null,null,null,null,null,null,null,null,null,0,0,"00-00000015"]
["№22 Turtle","M","50/33/12",1,null,1.6,3750,null,null,null,null,null,null,null,null,null,null,null,0,0,"00-00000016"]
["№23 Vedro II NEW!2020","M","35/23",1,null,1.7,4450,null,null,null,null,null,null,null,null,null,null,null,0,0,"00-00000020"]
["№24 Hippo","M","41/32/13",1,null,1.4,3700,null,null,null,null,null,null,null,null,null,null,null,0,0,"00-00000037"]
["№25 Wave","L","89/30/20",1,null,3,5700,null,null,null,null,null,null,null,null,null,null,null,0,0,"00-00000038"]
["№26 Smurf","M","48/30/13",1,null,1.65,3800,null,null,null,null,null,null,null,null,null,null,null,0,0,"00-00000005"]
["№27 Curve I","S","45/22/12",1,null,1.4,3800,null,null,null,null,null,null,null,null,null,null,null,0,0,"00-00000006"]
["№28 Curve II","S","44/24/12",1,null,1.32,3800,null,null,null,null,null,null,null,null,null,null,null,0,0,"00-00000007"]
["№29 Slack","S","36/25/20",1,null,1.66,3600,null,null,null,null,null,null,null,null,null,null,null,0,0,"00-00000008"]
["№30 Moon","L","74/36/15",1,null,2,5700,null,null,null,null,null,null,null,null,null,null,null,0,0,"00-00000177"]
["№32 Curve III","S","41/25/10",1,null,1.35,3050,null,null,null,null,null,null,null,null,null,null,null,0,0,"00-00000166"]
["№35 FF I","XS","30/8",1,null,0.9,2200,null,null,null,null,null,null,null,null,null,null,null,0,0,"00-00000024"]
["№36 FF II","XS","30/8",1,null,0.9,2200,null,null,null,null,null,null,null,null,null,null,null,0,0,"00-00000025"]
["№37 Bent","S","53/27/10",1,null,1.1000000000000001,3550,null,null,null,null,null,null,null,null,null,null,null,0,0,"00-00000297"]
["№38 Drop","L","50/32/21",1,null,2.2000000000000002,4750,null,null,null,null,null,null,null,null,null,null,null,0,0,"00-00000294"]
["№39 Egg","L","54/32/19",1,null,2.2000000000000002,4750,null,null,null,null,null,null,null,null,null,null,null,{"$f":"SUM(H36:R36)*F36","v":0},{"$f":"SUM(H36:R36)*G36","v":0},"00-00000295"]
["№40 Vedro","L","40/24",1,null,2.4500000000000002,5100,null,null,null,null,null,null,null,null,null,null,null,0,0,"00-00000296"]
["№41 Flat","S","41/27/10",1,null,1.25,2950,null,null,null,null,null,null,null,null,null,null,null,0,0,"00-00000298"]
["№42 Knot","S","43/22/9",1,null,1,2550,null,null,null,null,null,null,null,null,null,null,null,0,0,"00-00000299"]
["№43 MegaSpheric","XXL","77/37",1,null,8,12950,null,null,null,null,null,null,null,null,null,null,null,0,0,"00-00000307"]
["№44 Tweak","S","46/25/12",1,null,1.3,3200,null,null,null,null,null,null,null,null,null,null,null,0,0,"00-00000308"]
["№46 Bolda","S","42/23/10",1,null,1.1499999999999999,2450,null,null,null,null,null,null,null,null,null,null,null,0,0,"00-00000326"]
["№47 Iron","L","58/42/18",1,null,2.2000000000000002,4850,null,null,null,null,null,null,null,null,null,null,null,0,0,"00-00000345"]
["№50 MegaInSpheric","XXL","77/35",1,null,7.8,13950,null,null,null,null,null,null,null,null,null,null,null,0,0,"00-00000376"]
["№52 Oracle","L","38/26",1,null,2.95,4750,null,null,null,null,null,null,null,null,null,null,null,0,0,"00-00000390"]
["№56 Head I NEW!2020","S","36/32/16",1,null,1.05,2950,null,null,null,null,null,null,null,null,null,null,null,0,0,"00-00000480"]
["№57 Head II NEW!2020","XS","37/16/16",1,null,1.1000000000000001,2950,null,null,null,null,null,null,null,null,null,null,null,0,0,"00-00000481"]
["№58 Head III NEW!2020","M","44/40/22",1,null,1.6,3700,null,null,null,null,null,null,null,null,null,null,null,0,0,"00-00000482"]
["№59 Head IV NEW!2020","L","47/40/24",1,null,1.6,4100,null,null,null,null,null,null,null,null,null,null,null,0,0,"00-00000483"]
["№63 Brick I NEW!2020","XS","27/23/8",1,null,0.6,2200,null,null,null,null,null,null,null,null,null,null,null,0,0,"00-00000486"]
["№64 Brick II NEW!2020","XS","34/23/10",1,null,0.9,2950,null,null,null,null,null,null,null,null,null,null,null,0,0,"00-00000487"]
["№65 Brick III NEW!2020","S","33/22/14",1,null,1,3350,null,null,null,null,null,null,null,null,null,null,null,0,0,"00-00000488"]
["№66 Brick IV NEW!2020","S","33/22/14",1,null,1.2,3600,null,null,null,null,null,null,null,null,null,null,null,0,0,"00-00000491"]
["№70 Head V NEW!2020","M","37/27/23",1,null,1.75,4100,null,null,null,null,null,null,null,null,null,null,null,0,0,"00-00000511"]
["ДВУХТЕКСТУРНЫЕ СТЕКЛОПЛАСТИКОВЫЕ РЕЛЬЕФЫ"]
["№8 Volcano","M","45/40/16",1,null,1.62,4450,null,null,null,null,null,null,null,null,null,null,null,{"$f":"SUM(H56:R56)*F56","v":0},{"$f":"SUM(H56:R56)*G56","v":0},"00-00000450"]
["№45 Crater","S","48/28/13",1,null,1.6,3700,null,null,null,null,null,null,null,null,null,null,null,0,0,"00-00000315"]
["№48 Iron II","L","67/38/12",1,null,1.5,3950,null,null,null,null,null,null,null,null,null,null,null,0,0,"00-00000393"]
["№49 Big Crater","L","57/50/18",1,null,2.75,5100,null,null,null,null,null,null,null,null,null,null,null,0,0,"00-00000366"]
["№53 Coffee","M","55/28/9",1,null,1.25,3700,null,null,null,null,null,null,null,null,null,null,null,0,0,"00-00000449"]
["№54 Smile","M","45/30/13",1,null,1.21,3450,null,null,null,null,null,null,null,null,null,null,null,0,0,"00-00000459"]
["№55 Lucky","M","45/40/14",1,null,1.5,3950,null,null,null,null,null,null,null,null,null,null,null,0,0,"00-00000479"]
["№60 Pinch I NEW!2020","XS","37/18/11",1,null,0.82,2950,null,null,null,null,null,null,null,null,null,null,null,0,0,"00-00000496"]
["№61 Pinch II  NEW!2020","S","39/20/13",1,null,1,3300,null,null,null,null,null,null,null,null,null,null,null,0,0,"00-00000497"]
["№62 Pinch III  NEW!2020","S","33/27/13",1,null,1.1000000000000001,3350,null,null,null,null,null,null,null,null,null,null,null,0,0,"00-00000498"]
["№67 Snake I  NEW!2020","S","53/13/9",1,null,0.9,3400,null,null,null,null,null,null,null,null,null,null,null,0,0,"00-00000494"]
["№68 Snake II  NEW!2020","S","57/15/9",1,null,1,3550,null,null,null,null,null,null,null,null,null,null,null,0,0,"00-00000495"]
["№69 Lips  NEW!2020","M","67/18/7",1,null,1.1000000000000001,3700,null,null,null,null,null,null,null,null,null,null,null,0,0,"00-00000510"]
["ФАНЕРНЫЕ РЕЛЬЕФЫ"]
["№31 Pyramid V (R) NEW!2020 ","XXL","107/68/27",1,null,"5,9",5500,null,null,null,null,null,null,null,null,null,null,null,{"$f":"SUM(H70:R70)*F70","v":0},{"$f":"SUM(H70:R70)*G70","v":0},"00-00000587"]
["№33 Pyramid V (L)","XXL","107/68/27",1,null,"5,9",5500,null,null,null,null,null,null,null,null,null,null,null,{"$f":"SUM(H71:R71)*F71","v":0},{"$f":"SUM(H71:R71)*G71","v":0},"00-00000681"]
["№71 Arrow","XL","102/24/14",1,null,"2,5",4450,null,null,null,null,null,null,null,null,null,null,null,0,0,"00-00000122"]
["№72 Basket","XL","56/53/42",1,null,"6,12",7750,null,null,null,null,null,null,null,null,null,null,null,0,0,"00-00000391"]
["№75 Ladge","XL","115/26/20",1,null,"5,1",5850,null,null,null,null,null,null,null,null,null,null,null,0,0,"00-00000161"]
["№79 Post Box","XXL","100/45/19",1,null,"7,9",7000,null,null,null,null,null,null,null,null,null,null,null,0,0,"00-00000018"]
["№80 Pyramid I","S","35/35/17,5",1,null,"2",2550,null,null,null,null,null,null,null,null,null,null,null,0,0,"00-00000306"]
["№81 Pyramid II","M","41/41/17",1,null,"1,4",2300,null,null,null,null,null,null,null,null,null,null,null,0,0,"00-00000451"]
["№82 Pyramid III","XL","67/58/23",1,null,"4",4550,null,null,null,null,null,null,null,null,null,null,null,0,0,"00-00000017"]
["№83 Pyramid IV","XL","68/53/25",1,null,"5,3",5200,null,null,null,null,null,null,null,null,null,null,null,0,0,"00-00000019"]
["№84 Slice","XL","102/38/17",1,null,"5,65",7000,null,null,null,null,null,null,null,null,null,null,null,0,0,"00-00000123"]
["№85 Pyramid VI ","L","79/21/24",1,null,"2,48",3950,null,null,null,null,null,null,null,null,null,null,null,0,0,"00-00000614"]
["№86 Pyramid VII ","XXL","105/53/21",1,null,"4,06",6100,null,null,null,null,null,null,null,null,null,null,null,0,0,"00-00000615"]
["№87 Pyramid VIII ","XL","60/57/22",1,null,"3,44",4700,null,null,null,null,null,null,null,null,null,null,null,0,0,"00-00000616"]
["№88 Ray ","XL","77/40/22",1,null,"3",4750,null,null,null,null,null,null,null,null,null,null,null,0,0,"00-00000617"]
["№89 Big Pinch","L","79/21/24",1,null,"3,82",4500,null,null,null,null,null,null,null,null,null,null,null,{"$f":"SUM(H85:R85)*F85","v":0},{"$f":"SUM(H85:R85)*G85","v":0},"00-00000618"]
["№90","XXL","140/135/35",1,null,"0",14700,null,null,null,null,null,null,null,null,null,null,null,0,0,"00-00000692"]
["№91 ","XXL","97/93/25",1,null,"0",9950,null,null,null,null,null,null,null,null,null,null,null,0,0,"00-00000680"]
["№92","XXL","115/115/20",1,null,"0",8700,null,null,null,null,null,null,null,null,null,null,null,0,0,"00-00000737"]
["№93 ","XL","92/42/15",1,null,"0",5750,null,null,null,null,null,null,null,null,null,null,null,0,0,"00-00000706"]
["№94","XL","94/56/20",1,null,"0",6300,null,null,null,null,null,null,null,null,null,null,null,0,0,"00-00000738"]
["№95","XXL","97/93/25",1,null,"0",8600,null,null,null,null,null,null,null,null,null,null,null,0,0,"00-00000699"]
["№96","XL","80/75/25",1,null,"0",8300,null,null,null,null,null,null,null,null,null,null,null,0,0,"00-00000698"]
["№97","XXL","105/100/25",1,null,"0",10400,null,null,null,null,null,null,null,null,null,null,null,0,0,"00-00000697"]
["№98","XXL","125/25/10",1,null,"0",6700,null,null,null,null,null,null,null,null,null,null,null,0,0,"00-00000696"]
["№99","XXL","115/115/40",1,null,"0",12100,null,null,null,null,null,null,null,null,null,null,null,{"$f":"SUM(H95:R95)*F95","v":0},{"$f":"SUM(H95:R95)*G95","v":0},"00-00000742"]
["Набор рельефов фанерых","S","31/31/8,5-31/31/16",7,null,"0",14000,null,null,null,null,null,null,null,null,null,null,null,0,0,"00-00000693"]
["Набор рельефов фанерных","L","130/124/21",5,null,"0",16800,null,null,null,null,null,null,null,null,null,null,null,0,0,"00-00000694"]
["СЕТЫ РЕЛЬЕФОВ"]
["Сет Bricks  NEW!2020","XS-S","Brick I - 27/23/8; Brick II - 34/23/10; Brick III - 53/22/14; Brick IV - 31/28/15;",4,null,"3,7",10700,null,null,null,null,null,null,null,null,null,null,null,{"$f":"SUM(H99:R99)*F99","v":0},{"$f":"SUM(H99:R99)*G99","v":0},"00-00000501"]
["Сет Curve","S","Curve I - 45/22/12;Curve II - 44/22/12; Curve III - 41/25/10;  ",3,null,4.0999999999999996,10250,null,null,null,null,null,null,null,null,null,null,null,0,0,"00-00000506"]
["Сет Flat","S","Flat - 41/27/10; Bolda - 42/23/10; Tweak - 46/25/12; Knot - 43/22/9;",4,null,4.7,9800,null,null,null,null,null,null,null,null,null,null,null,0,0,"00-00000505"]
["Сет Heads NEW!2020","XS-L","Head I - 36/32/16;Head II - 37/16/16; Head III - 44/40/22; Head IV - 47/40/24; Head V - 37/27/23; ",5,null,7.35,16450,null,null,null,null,null,null,null,null,null,null,null,0,0,"00-00000502"]
["Сет Pinches NEW!2020","XS-S","Pinch I - 37/18/11; Pinch II - 39/20/13; Pinch III - 33/27/13;",3,null,2.9,9200,null,null,null,null,null,null,null,null,null,null,null,0,0,"00-00000500"]
[]
[null,null,null,null,null,null,null,"Количество рельефов по цвету",null,null,null,null,null,null,null,null,null,null,"Общий вес","Общая стоимость"]
[]
[null,null,null,null,null,null,null,"шт","шт","шт","шт","шт","шт","шт","шт","шт","шт",null,"кг","руб"]
[null,null,null,null,null,null,null,{"$f":"SUM(H4:H54)+SUM(H56:H68)+SUM(H70:H95)+SUM(H96)*7+SUM(H97)*5+SUM(H99)*4+SUM(H100)*3+SUM(H101)*4+SUM(H102)*5+SUM(H103)*3","v":0},{"$f":"SUM(I4:I54)+SUM(I56:I68)+SUM(I70:I95)+SUM(I96)*7+SUM(I97)*5+SUM(I99)*4+SUM(I100)*3+SUM(I101)*4+SUM(I102)*5+SUM(I103)*3","v":0},0,0,0,0,0,0,0,0,0,{"$f":"SUM(S4:S54,S56:S68,,S70:S97,S99:S103)","v":0},{"$f":"SUM(T4:T54,T56:T68,,T70:T97,T99:T103)","v":0},{"$f":"SUM(U4:U54,U56:U68,#REF!,U70:U97,U99:U103)","v":{"$error":"#REF!"}}]
[]
[null,null,null,null,null,null,null,null,null,null,null,null,"XS","S","M","L","XL","XXL","Общее кол-во"]
[null,null,null,null,null,null,null,null,null,null,null,null,{"$f":"SUM(H7:R7)+SUM(H32:R32)+SUM(H33:R33)+SUM(H47:R47)+SUM(H50:R50)+SUM(H63:R63)+SUM(H99:R99)*2+SUM(H102:R102)*1+SUM(H103:R103)*1","v":0},{"$f":"SUM(H6:R6)+SUM(H9:R9)+SUM(H10:R10)+SUM(H11:R11)+SUM(H12:R12)+SUM(H18:R18)+SUM(H27:R27)+SUM(H28:R28)+SUM(H29:R29)+SUM(H31:R31)+SUM(H34:R34)+SUM(H38:R38)+SUM(H39:R39)+SUM(H41:R41)+SUM(H42:R42)+SUM(H46:R46)+SUM(H52:R52)+SUM(H53:R53)+SUM(H57:R57)+SUM(H64:R64)+SUM(H65:R65)+SUM(H66:R66)+SUM(H67:R67)+SUM(H76:R76)+SUM(H99:R99)*2+SUM(H100:R100)*3+SUM(H101:R101)*4+SUM(H102:R102)*1+SUM(H103:R103)*2+SUM(H96:R96)*7","v":0},{"$f":"SUM(H4:R4)+SUM(H5:R5)+SUM(H8:R8)+SUM(H13:R13)+SUM(H14:R15)+SUM(H17:R17)+SUM(H19:R19)+SUM(H20:R20)+SUM(H22:R22)+SUM(H23:R23)+SUM(H24:R24)+SUM(H26:R26)+SUM(H48:R48)+SUM(H54:R54)+SUM(H56:R56)+SUM(H60:R60)+SUM(H61:R61)+SUM(H62:R62)+SUM(H68:R68)+SUM(H77:R77)+SUM(H102:R102)*2","v":0},{"$f":"SUM(H102:R102)*1+SUM(H58:R58)+SUM(H59:R59)+SUM(H49:R49)+SUM(H45:R45)+SUM(H43:R43)+SUM(H37:R37)+SUM(H36:R36)+SUM(H35:R35)+SUM(H30:R30)+SUM(H25:R25)+SUM(H21:R21)+SUM(H16:R16)+SUM(H85:R85)+SUM(H97:R97)*5+SUM(H81:R81)","v":0},{"$f":"SUM(H92:R92)+SUM(H90:R90)+SUM(H89:R89)+SUM(H84:R84)+SUM(H83:R83)+SUM(H80:R80)+SUM(H79:R79)+SUM(H78:R78)+SUM(H74:R74)+SUM(H73:R73)+SUM(H72:R72)","v":0},{"$f":"SUM(H44:R44)+SUM(H45:R45)+SUM(H70:R70)+SUM(H71:R71)+SUM(H75:R75)+SUM(H82:R82)+SUM(H86:R86)+SUM(H87:R87)+SUM(H88:R88)+SUM(H91:R91)+SUM(H93:R93)+SUM(H94:R94)+SUM(H95:R95)","v":0},{"$f":"SUM(M111:R111)","v":0}]

{"sheet":"Для тренировки","index":3,"n_rows":12,"n_cols":25,"rows_kept":12,"cut":false,"hidden":false,"merged":[[0,0,1,0],[0,2,1,2],[0,18,0,24],[0,5,0,15],[9,18,9,19],[6,5,6,15],[5,5,5,15],[10,18,10,19],[11,18,11,19],[9,14,9,16],[8,14,8,19],[10,14,10,16],[11,14,11,16]]}
["Название","Количество в наборе","Изображение ","Вес набора","Цена набора","Выберите цвет зацепов",null,null,null,null,null,null,null,null,null,null,"Общий вес","Общая стоимость","Длина необходимых болтов для заказанных наборов"]
[null,"шт",null,"кг","руб","Любой цвет","3028 RAL","5015 RAL","1018 RAL","6037 RAL","9005 RAL","9010 RAL","2003 RAL","4005 RAL","Зеленый флюр","Розовый флюр","кг","руб","40мм","50мм","60мм","70мм","90мм","100мм","120мм"]
["Campus hold",2,null,1.8,890,null,null,null,null,null,null,null,null,null,null,null,{"$f":"SUM(F3:P3)*D3","v":0},{"$f":"SUM(F3:P3)*E3","v":0},{"$f":"SUM(F3:P3)*2","v":0}]
["System hold I",2,null,1.5,680,null,null,null,null,null,null,null,null,null,null,null,0,0,null,null,null,{"$f":"SUM(F4:P4)*2","v":0}]
["System hold II",2,null,2.4,980,null,null,null,null,null,null,null,null,null,null,null,0,0,null,null,null,{"$f":"SUM(F5:P5)*2","v":0}]
["Турник Extensor без накладок",1,null,3.7,2860,null,null,null,null,null,null,null,null,null,null,null,0,0]
["Паралетсы Aztec",2,null,4.7,2600,null,null,null,null,null,null,null,null,null,null,null,0,0]
[]
[null,null,null,null,null,null,null,null,null,null,null,null,null,null,"Итого"]
[null,null,null,null,null,null,null,null,null,null,null,null,null,null,"Общее количество зацепов для тренировки",null,null,"Общий вес","Общая стоимость"]
[null,null,null,null,null,null,null,null,null,null,null,null,null,null,"шт",null,null,"кг","руб"]
[null,null,null,null,null,null,null,null,null,null,null,null,null,null,{"$f":"SUM(F3:P3)*2+SUM(F4:P4)*2+SUM(F5:P5)*2","v":0},null,null,{"$f":"SUM(Q3:Q7)","v":0},{"$f":"SUM(R3:R7)","v":0}]

{"sheet":"Крепеж","index":4,"n_rows":17,"n_cols":7,"rows_kept":17,"cut":false,"hidden":false,"merged":[[0,0,1,0],[13,4,13,6]]}
["Название","Количество","Вес","Цена","Укажите количество","Общий вес","Общая стоимость"]
[null,"шт","кг","руб","шт","кг","руб"]
["Болт M10 40мм",1,3.2000000000000001E-2,12,null,{"$f":"C3*E3","v":0},{"$f":"D3*E3","v":0}]
["Болт M10 50мм",1,3.7999999999999999E-2,14,null,{"$f":"C4*E4","v":0},0]
["Болт M10 60мм",1,4.3999999999999997E-2,16,null,0,0]
["Болт M10 70мм",1,0.05,18,null,0,0]
["Болт M10 80мм",1,5.5E-2,20,null,0,0]
["Болт M10 90мм",1,6.2E-2,23,null,0,0]
["Болт M10 100мм",1,6.8000000000000005E-2,25,null,0,0]
["Болт M10 120мм",1,0.08,30,null,0,0]
["Бульдог M10",1,7.6E-3,8.1999999999999993,null,0,0]
[]
[]
[null,null,null,null,"Итого"]
[null,null,null,null,"Общее количество","Общий вес","Общая стоимость"]
[null,null,null,null,"шт","кг","руб"]
[null,null,null,null,{"$f":"SUM(E3:E11)","v":0},{"$f":"SUM(F3:F11)","v":0},{"$f":"SUM(G3:G11)","v":0}]

{"sheet":"Формирование","index":5,"n_rows":92,"n_cols":9,"rows_kept":92,"cut":false,"hidden":true,"merged":[[1,6,1,8],[18,6,18,8],[1,0,1,2],[1,3,1,5]]}
["Куда"]
["Зацепы",null,null,"Рельефы",null,null,"Для тренировки"]
["Название","Кол-во","Стоимость","Название","Кол-во","Стоимость","Название","Кол-во","Стоимость"]
["New Beads",{"$f":"Зацепы!#REF!","v":{"$error":"#REF!"}},{"$f":"Зацепы!Y4","v":0},"Рельеф № 1 Double Spheric",{"$f":"Рельефы!H4","v":0},{"$f":"Рельефы!T4","v":0},"Campus hold II",{"$f":"'Для тренировки'!#REF!","v":{"$error":"#REF!"}},{"$f":"'Для тренировки'!R3","v":0}]
[null,null,null,"Рельеф № 2 Spheric",{"$f":"Рельефы!H5","v":0},{"$f":"Рельефы!T5","v":0},"System hold I",{"$f":"'Для тренировки'!#REF!","v":{"$error":"#REF!"}},{"$f":"'Для тренировки'!R4","v":0}]
["Energy",{"$error":"#REF!"},{"$error":"#REF!"},"Рельеф № 3 Tufa",{"$f":"Рельефы!H6","v":0},{"$f":"Рельефы!T6","v":0},"System hold II",{"$f":"'Для тренировки'!#REF!","v":{"$error":"#REF!"}},{"$f":"'Для тренировки'!R5","v":0}]
["Sqrew/XS",null,null,"Рельеф Small Spheric № 4",{"$f":"Рельефы!H7","v":0},{"$f":"Рельефы!T7","v":0},"Турник Extensor без накладок",{"$f":"'Для тренировки'!#REF!","v":{"$error":"#REF!"}},{"$f":"'Для тренировки'!R6","v":0}]
["Shooter I",{"$f":"Зацепы!#REF!","v":{"$error":"#REF!"}},{"$f":"Зацепы!#REF!","v":{"$error":"#REF!"}},"Рельеф Hollow № 5",{"$f":"Рельефы!H8","v":0},{"$f":"Рельефы!T8","v":0},null,{"$f":"'Для тренировки'!#REF!","v":{"$error":"#REF!"}},{"$f":"'Для тренировки'!#REF!","v":{"$error":"#REF!"}}]
["Uni-Sqrew",{"$f":"Зацепы!#REF!","v":{"$error":"#REF!"}},{"$f":"Зацепы!Y6","v":0},"Рельеф Nest № 6",{"$f":"Рельефы!H9","v":0},{"$f":"Рельефы!T9","v":0},"Шары Nutcracker(80мм)",{"$f":"'Для тренировки'!#REF!","v":{"$error":"#REF!"}},{"$f":"'Для тренировки'!#REF!","v":{"$error":"#REF!"}}]
["BARK sqrew",{"$f":"Зацепы!#REF!","v":{"$error":"#REF!"}},{"$f":"Зацепы!#REF!","v":{"$error":"#REF!"}},"Рельеф Casper № 7",{"$f":"Рельефы!H10","v":0},{"$f":"Рельефы!T10","v":0},"Шары Nutcracker(90мм)",{"$f":"'Для тренировки'!#REF!","v":{"$error":"#REF!"}},{"$f":"'Для тренировки'!#REF!","v":{"$error":"#REF!"}}]
["Spots PU",{"$f":"Зацепы!#REF!","v":{"$error":"#REF!"}},{"$f":"Зацепы!Y8","v":0},"Рельеф № 8 Volcano",{"$f":"Рельефы!H11","v":0},{"$f":"Рельефы!T11","v":0},"Паралетсы",{"$f":"'Для тренировки'!#REF!","v":{"$error":"#REF!"}},{"$f":"'Для тренировки'!R7","v":0}]
["Geometric Screw PU",{"$f":"Зацепы!#REF!","v":{"$error":"#REF!"}},{"$f":"Зацепы!Y11","v":0},"Рельеф Delfino № 9",{"$f":"Рельефы!H12","v":0},{"$f":"Рельефы!T12","v":0},"Итого",{"$f":"SUM(H4:H11)","v":{"$error":"#REF!"}},{"$f":"SUM(I4:I11)","v":{"$error":"#REF!"}}]
["Granite Screw PU",{"$f":"Зацепы!#REF!","v":{"$error":"#REF!"}},{"$f":"Зацепы!Y12","v":0},"Рельеф Bone №10",{"$f":"Рельефы!H13","v":0},{"$f":"Рельефы!T13","v":0}]
["S",null,null,"Рельеф Wing № 11",{"$f":"Рельефы!H14","v":0},{"$f":"Рельефы!T14","v":0}]
["Edges",{"$f":"Зацепы!#REF!","v":{"$error":"#REF!"}},{"$f":"Зацепы!Y14","v":0},"Рельеф Stump № 12",{"$f":"Рельефы!H15","v":0},{"$f":"Рельефы!T15","v":0}]
["No fear",{"$f":"Зацепы!#REF!","v":{"$error":"#REF!"}},{"$f":"Зацепы!Y15","v":0},"Рельеф Ear № 13",{"$f":"Рельефы!H16","v":0},{"$f":"Рельефы!T16","v":0}]
["Grime",{"$f":"Зацепы!#REF!","v":{"$error":"#REF!"}},{"$f":"Зацепы!#REF!","v":{"$error":"#REF!"}},"Рельеф Camel № 14",{"$f":"Рельефы!H17","v":0},{"$f":"Рельефы!T17","v":0}]
["Stone",{"$f":"Зацепы!#REF!","v":{"$error":"#REF!"}},{"$f":"Зацепы!Y16","v":0},"Рельеф Nut № 15",{"$f":"Рельефы!H18","v":0},{"$f":"Рельефы!T18","v":0}]
["Universal",{"$f":"Зацепы!#REF!","v":{"$error":"#REF!"}},{"$f":"Зацепы!Y17","v":0},"Рельеф Dune № 16",{"$f":"Рельефы!H19","v":0},{"$f":"Рельефы!T19","v":0},"Крепеж"]
["Metamorphic",{"$f":"Зацепы!#REF!","v":{"$error":"#REF!"}},{"$f":"Зацепы!Y18","v":0},"Рельеф Dream Point № 17",{"$f":"Рельефы!H20","v":0},{"$f":"Рельефы!T20","v":0},"Название","Кол-во","Стоимость"]
["Metamorphic II",{"$f":"Зацепы!#REF!","v":{"$error":"#REF!"}},{"$f":"Зацепы!Y19","v":0},"Рельеф Boomerang № 18",{"$f":"Рельефы!H21","v":0},{"$f":"Рельефы!T21","v":0},"Болт M10 40мм",{"$f":"Крепеж!E3","v":0},{"$f":"Крепеж!G3","v":0}]
["Skin Killer",{"$f":"Зацепы!#REF!","v":{"$error":"#REF!"}},{"$f":"Зацепы!Y20","v":0},"Рельеф Banana № 21",{"$f":"Рельефы!H22","v":0},{"$f":"Рельефы!T22","v":0},"Болт M10 50мм",{"$f":"Крепеж!E4","v":0},{"$f":"Крепеж!G4","v":0}]
["M",null,null,"Рельеф Turtle № 22",{"$f":"Рельефы!H23","v":0},{"$f":"Рельефы!T23","v":0},"Болт M10 60мм",{"$f":"Крепеж!E5","v":0},{"$f":"Крепеж!G5","v":0}]
["Classic",{"$f":"Зацепы!#REF!","v":{"$error":"#REF!"}},{"$f":"Зацепы!#REF!","v":{"$error":"#REF!"}},"Рельеф № 23 Vedro II",{"$f":"Рельефы!H24","v":0},{"$f":"Рельефы!T24","v":0},"Болт M10 70мм",{"$f":"Крепеж!E6","v":0},{"$f":"Крепеж!G6","v":0}]
["Geyser II",{"$f":"Зацепы!#REF!","v":{"$error":"#REF!"}},{"$f":"Зацепы!#REF!","v":{"$error":"#REF!"}},"Рельеф Hippo № 24",{"$f":"Рельефы!H25","v":0},{"$f":"Рельефы!T25","v":0},"Болт M10 80мм",{"$f":"Крепеж!E7","v":0},{"$f":"Крепеж!G7","v":0}]
["Method",{"$f":"Зацепы!#REF!","v":{"$error":"#REF!"}},{"$f":"Зацепы!#REF!","v":{"$error":"#REF!"}},"Рельеф Wave № 25",{"$f":"Рельефы!H26","v":0},{"$f":"Рельефы!T26","v":0},"Болт M10 90мм",{"$f":"Крепеж!E8","v":0},{"$f":"Крепеж!G8","v":0}]
["Static",{"$f":"Зацепы!#REF!","v":{"$error":"#REF!"}},{"$f":"Зацепы!Y22","v":0},"Рельеф  № 26 Smurf",{"$f":"Рельефы!H27","v":0},{"$f":"Рельефы!T27","v":0},"Болт M10 100мм",{"$f":"Крепеж!E9","v":0},{"$f":"Крепеж!G9","v":0}]
["X-Power",{"$f":"Зацепы!#REF!","v":{"$error":"#REF!"}},{"$f":"Зацепы!Y23","v":0},"Рельеф  № 27 Curve I",{"$f":"Рельефы!H28","v":0},{"$f":"Рельефы!T28","v":0},"Болт M10 120мм",{"$f":"Крепеж!E10","v":0},{"$f":"Крепеж!G10","v":0}]
["Handle",{"$f":"Зацепы!#REF!","v":{"$error":"#REF!"}},{"$f":"Зацепы!Y24","v":0},"Рельеф  № 28 Curve II",{"$f":"Рельефы!H29","v":0},{"$f":"Рельефы!T29","v":0},"Бульдог M10",{"$f":"Крепеж!E11","v":0},{"$f":"Крепеж!G11","v":0}]
["Sand Stone",{"$f":"Зацепы!#REF!","v":{"$error":"#REF!"}},{"$f":"Зацепы!#REF!","v":{"$error":"#REF!"}},"Рельеф  № 29 Slack",{"$f":"Рельефы!H30","v":0},{"$f":"Рельефы!T30","v":0},"Итого",{"$f":"SUM(H21:H29)","v":0},{"$f":"SUM(I21:I29)","v":0}]
["Sea Life",{"$f":"Зацепы!#REF!","v":{"$error":"#REF!"}},{"$f":"Зацепы!Y25","v":0},"Рельеф  № 30 Moon",{"$f":"Рельефы!H31","v":0},{"$f":"Рельефы!T31","v":0}]
["Up",{"$f":"Зацепы!#REF!","v":{"$error":"#REF!"}},{"$f":"Зацепы!Y26","v":0},"Evklid PU HB № 31",{"$f":"Рельефы!#REF!","v":{"$error":"#REF!"}},{"$f":"Рельефы!#REF!","v":{"$error":"#REF!"}}]
["L",null,null,"Рельеф  № 32 Curve III",{"$f":"Рельефы!H32","v":0},{"$f":"Рельефы!T32","v":0}]
["Cloud",{"$f":"Зацепы!#REF!","v":{"$error":"#REF!"}},{"$f":"Зацепы!#REF!","v":{"$error":"#REF!"}},"Penta PU HB № 33",{"$f":"Рельефы!#REF!","v":{"$error":"#REF!"}},{"$f":"Рельефы!#REF!","v":{"$error":"#REF!"}}]
["Bridge stone",{"$f":"Зацепы!#REF!","v":{"$error":"#REF!"}},{"$f":"Зацепы!Y28","v":0},"Trampl PU HB № 34",{"$f":"Рельефы!#REF!","v":{"$error":"#REF!"}},{"$f":"Рельефы!#REF!","v":{"$error":"#REF!"}}]
["Geyser I",{"$f":"Зацепы!#REF!","v":{"$error":"#REF!"}},{"$f":"Зацепы!#REF!","v":{"$error":"#REF!"}},"Pifagor PU HB № 35",{"$f":"Рельефы!#REF!","v":{"$error":"#REF!"}},{"$f":"Рельефы!#REF!","v":{"$error":"#REF!"}}]
["Lever ",{"$f":"Зацепы!#REF!","v":{"$error":"#REF!"}},{"$f":"Зацепы!Y29","v":0},"Stels PU HB № 36",{"$f":"Рельефы!#REF!","v":{"$error":"#REF!"}},{"$f":"Рельефы!#REF!","v":{"$error":"#REF!"}}]
["Hexagon",{"$f":"Зацепы!#REF!","v":{"$error":"#REF!"}},{"$f":"Зацепы!Y30","v":0},"Рельеф Bent № 37",{"$f":"Рельефы!H33","v":0},{"$f":"Рельефы!T33","v":0}]
["Plesure",{"$f":"Зацепы!#REF!","v":{"$error":"#REF!"}},{"$f":"Зацепы!#REF!","v":{"$error":"#REF!"}},"Рельеф Drop № 38",{"$f":"Рельефы!H34","v":0},{"$f":"Рельефы!T34","v":0}]
["Expert",{"$f":"Зацепы!#REF!","v":{"$error":"#REF!"}},{"$f":"Зацепы!#REF!","v":{"$error":"#REF!"}},"Рельеф Egg № 39",{"$f":"Рельефы!H35","v":0},{"$f":"Рельефы!T35","v":0}]
["Roof",{"$f":"Зацепы!#REF!","v":{"$error":"#REF!"}},{"$f":"Зацепы!Y31","v":0},"Рельеф Vedro № 40",{"$f":"Рельефы!H36","v":0},{"$f":"Рельефы!T36","v":0}]
["Dront",{"$f":"Зацепы!#REF!","v":{"$error":"#REF!"}},{"$f":"Зацепы!Y32","v":0},"Рельеф Flat № 41",{"$f":"Рельефы!H37","v":0},{"$f":"Рельефы!T37","v":0}]
["Ceuse III",{"$f":"Зацепы!#REF!","v":{"$error":"#REF!"}},{"$f":"Зацепы!Y33","v":0},"Рельеф Knot № 42",{"$f":"Рельефы!H38","v":0},{"$f":"Рельефы!T38","v":0}]
["Pac-Man",{"$f":"Зацепы!#REF!","v":{"$error":"#REF!"}},{"$f":"Зацепы!Y34","v":0},"Рельеф  MegaSpheric № 43",{"$f":"Рельефы!H39","v":0},{"$f":"Рельефы!T39","v":0}]
["Kuturchin I",{"$f":"Зацепы!#REF!","v":{"$error":"#REF!"}},{"$f":"Зацепы!Y36","v":0},"Рельеф  Tweak № 44",{"$f":"Рельефы!H40","v":0},{"$f":"Рельефы!T40","v":0}]
["XL",null,null,"Рельеф  Crater № 45",{"$f":"Рельефы!H41","v":0},{"$f":"Рельефы!T41","v":0}]
["Ceuse",{"$f":"Зацепы!#REF!","v":{"$error":"#REF!"}},{"$f":"Зацепы!Y38","v":0},"Рельеф  Bolda № 46",{"$f":"Рельефы!H42","v":0},{"$f":"Рельефы!T42","v":0}]
["Ceuse II",{"$f":"Зацепы!#REF!","v":{"$error":"#REF!"}},{"$f":"Зацепы!Y39","v":0},"Рельеф  Iron № 47",{"$f":"Рельефы!H43","v":0},{"$f":"Рельефы!T43","v":0}]
["Muffins",{"$f":"Зацепы!#REF!","v":{"$error":"#REF!"}},{"$f":"Зацепы!Y40","v":0},"Рельеф  Iron II № 48",{"$f":"Рельефы!H44","v":0},{"$f":"Рельефы!T44","v":0}]
["Duff",{"$f":"Зацепы!#REF!","v":{"$error":"#REF!"}},{"$f":"Зацепы!#REF!","v":{"$error":"#REF!"}},"Рельеф  Big Crater № 49",{"$f":"Рельефы!H54","v":0},{"$f":"Рельефы!T54","v":0}]
["Soft Jugs",{"$f":"Зацепы!#REF!","v":{"$error":"#REF!"}},{"$f":"Зацепы!Y43","v":0},"Рельеф  MegaInSpheric № 50",{"$f":"Рельефы!H56","v":0},{"$f":"Рельефы!T56","v":0}]
["XXL",null,null,"Рельеф Archimed PU HB № 51",{"$f":"Рельефы!#REF!","v":{"$error":"#REF!"}},{"$f":"Рельефы!#REF!","v":{"$error":"#REF!"}}]
["Baton PU",{"$f":"Зацепы!#REF!","v":{"$error":"#REF!"}},{"$f":"Зацепы!Y45","v":0},"Рельеф  Oracle № 52",{"$f":"Рельефы!H57","v":0},{"$f":"Рельефы!T57","v":0}]
["Dront XXL",{"$f":"Зацепы!#REF!","v":{"$error":"#REF!"}},{"$f":"Зацепы!Y48","v":0},"Рельеф № 53 Coffee",{"$f":"Рельефы!H59","v":0},{"$f":"Рельефы!T59","v":0}]
["Free Fall",{"$f":"Зацепы!#REF!","v":{"$error":"#REF!"}},{"$f":"Зацепы!Y49","v":0},"Рельеф № 54 Smile",{"$f":"Рельефы!H60","v":0},{"$f":"Рельефы!T60","v":0}]
["Boss I",{"$f":"Зацепы!#REF!","v":{"$error":"#REF!"}},{"$f":"Зацепы!Y50","v":0},"Рельеф № 55 Lucky",{"$f":"Рельефы!H61","v":0},{"$f":"Рельефы!T61","v":0}]
["Boss II",{"$f":"Зацепы!#REF!","v":{"$error":"#REF!"}},{"$f":"Зацепы!Y51","v":0},"Рельеф № 56 Head I",{"$f":"Рельефы!H62","v":0},{"$f":"Рельефы!T62","v":0}]
["GIGA",null,null,"Рельеф № 57 Head II",{"$f":"Рельефы!H63","v":0},{"$f":"Рельефы!T63","v":0}]
["Fish",{"$f":"Зацепы!#REF!","v":{"$error":"#REF!"}},{"$f":"Зацепы!Y54","v":0},"Рельеф № 58 Head III",{"$f":"Рельефы!H64","v":0},{"$f":"Рельефы!T64","v":0}]
["Africa",{"$f":"Зацепы!#REF!","v":{"$error":"#REF!"}},{"$f":"Зацепы!Y55","v":0},"Рельеф № 59 Head IV",{"$f":"Рельефы!H65","v":0},{"$f":"Рельефы!T65","v":0}]
[null,null,null,"Рельеф № 60 Pinch I",{"$f":"Рельефы!H66","v":0},{"$f":"Рельефы!T66","v":0}]
["Итого",{"$f":"SUM(B4:B61)","v":{"$error":"#REF!"}},{"$f":"SUM(C4:C61)","v":{"$error":"#REF!"}},"Рельеф № 61 Pinch II",{"$f":"Рельефы!H67","v":0},{"$f":"Рельефы!T67","v":0}]
[null,null,null,"Рельеф № 62 Pinch III",{"$f":"Рельефы!H68","v":0},{"$f":"Рельефы!T68","v":0}]
[null,null,null,"Рельеф № 63 Brick l",{"$f":"Рельефы!#REF!","v":{"$error":"#REF!"}},{"$f":"Рельефы!#REF!","v":{"$error":"#REF!"}}]
[null,null,null,"Рельеф № 64 Brick II",{"$f":"Рельефы!#REF!","v":{"$error":"#REF!"}},{"$f":"Рельефы!#REF!","v":{"$error":"#REF!"}}]
[null,null,null,"Рельеф № 65 Brick III",{"$f":"Рельефы!#REF!","v":{"$error":"#REF!"}},{"$f":"Рельефы!#REF!","v":{"$error":"#REF!"}}]
[null,null,null,"Рельеф № 66 Brick IV",{"$f":"Рельефы!#REF!","v":{"$error":"#REF!"}},{"$f":"Рельефы!#REF!","v":{"$error":"#REF!"}}]
[null,null,null,"Рельеф № 67 Snake I",{"$f":"Рельефы!#REF!","v":{"$error":"#REF!"}},{"$f":"Рельефы!#REF!","v":{"$error":"#REF!"}}]
[null,null,null,"Рельеф № 68 Snake II",{"$f":"Рельефы!#REF!","v":{"$error":"#REF!"}},{"$f":"Рельефы!#REF!","v":{"$error":"#REF!"}}]
[null,null,null,"Рельеф № 69 Lips",{"$f":"Рельефы!#REF!","v":{"$error":"#REF!"}},{"$f":"Рельефы!#REF!","v":{"$error":"#REF!"}}]
[null,null,null,"Рельеф № 70 Head V",{"$f":"Рельефы!#REF!","v":{"$error":"#REF!"}},{"$f":"Рельефы!#REF!","v":{"$error":"#REF!"}}]
[null,null,null,"Набор рельефов Geometry",{"$f":"Рельефы!#REF!","v":{"$error":"#REF!"}},{"$f":"Рельефы!#REF!","v":{"$error":"#REF!"}}]
[null,null,null,"Набор рельефов Heads",{"$f":"Рельефы!#REF!","v":{"$error":"#REF!"}},{"$f":"Рельефы!#REF!","v":{"$error":"#REF!"}}]
[null,null,null,"Набор рельефов Pinches",{"$f":"Рельефы!#REF!","v":{"$error":"#REF!"}},{"$f":"Рельефы!#REF!","v":{"$error":"#REF!"}}]
[null,null,null,"Набор рельефов Bricks",{"$f":"Рельефы!#REF!","v":{"$error":"#REF!"}},{"$f":"Рельефы!#REF!","v":{"$error":"#REF!"}}]
[null,null,null,"Набор рельефов Virus PU",{"$f":"Рельефы!#REF!","v":{"$error":"#REF!"}},{"$f":"Рельефы!#REF!","v":{"$error":"#REF!"}}]
[null,null,null,"Рельеф FF № 1",{"$f":"Рельефы!H70","v":0},{"$f":"Рельефы!T70","v":0}]
[null,null,null,"Рельеф FF № 2",{"$f":"Рельефы!#REF!","v":{"$error":"#REF!"}},{"$f":"Рельефы!#REF!","v":{"$error":"#REF!"}}]
[null,null,null,"Рельеф PWV I",{"$f":"Рельефы!H79","v":0},{"$f":"Рельефы!T79","v":0}]
[null,null,null,"РельефPWV II",{"$f":"Рельефы!#REF!","v":{"$error":"#REF!"}},{"$f":"Рельефы!#REF!","v":{"$error":"#REF!"}}]
[null,null,null,"Рельеф PWV III",{"$f":"Рельефы!H99","v":0},{"$f":"Рельефы!T99","v":0}]
[null,null,null,"Рельеф PWV IV Hexa",{"$f":"Рельефы!H100","v":0},{"$f":"Рельефы!T100","v":0}]
[null,null,null,"Рельеф PWV V Slice",{"$f":"Рельефы!H101","v":0},{"$f":"Рельефы!T101","v":0}]
[null,null,null,"Рельеф PWV VI Arrow",{"$f":"Рельефы!H102","v":0},{"$f":"Рельефы!T102","v":0}]
[null,null,null,"Рельеф PWV VII Manta",{"$f":"Рельефы!H103","v":0},{"$f":"Рельефы!T103","v":0}]
[null,null,null,"Рельеф PWV VIII Ladge",{"$f":"Рельефы!#REF!","v":{"$error":"#REF!"}},{"$f":"Рельефы!#REF!","v":{"$error":"#REF!"}}]
[null,null,null,"Рельеф PWV IX Diamond",{"$f":"Рельефы!#REF!","v":{"$error":"#REF!"}},{"$f":"Рельефы!#REF!","v":{"$error":"#REF!"}}]
[null,null,null,"Рельеф PWV X Planner",{"$f":"Рельефы!#REF!","v":{"$error":"#REF!"}},{"$f":"Рельефы!#REF!","v":{"$error":"#REF!"}}]
[null,null,null,"Рельеф PWV XI Puramid S",{"$f":"Рельефы!#REF!","v":{"$error":"#REF!"}},{"$f":"Рельефы!#REF!","v":{"$error":"#REF!"}}]
[null,null,null,"Рельеф PWV XII Basket",{"$f":"Рельефы!#REF!","v":{"$error":"#REF!"}},{"$f":"Рельефы!#REF!","v":{"$error":"#REF!"}}]
[null,null,null,"Рельеф PWV XIII Pyramid XS",{"$f":"Рельефы!#REF!","v":{"$error":"#REF!"}},{"$f":"Рельефы!#REF!","v":{"$error":"#REF!"}}]
[null,null,null,"Итого",{"$f":"SUM(E4:E91)","v":{"$error":"#REF!"}},{"$f":"SUM(F4:F91)","v":{"$error":"#REF!"}}]